BEGIN:VCALENDAR
BEGIN:VEVENT
DTSTART:20260907T164500
DTEND:20260907T183000
SUMMARY:Generationen-Lesekreis
LOCATION:Gemeinde- & Schulbibliothek Binningen
DESCRIPTION:Generationen-Lesekreis für Kinder und Erwachsene mit Lesefieber. Startet am 7.9.2026. Eintritt frei. Anmeldung via E-Mail erforderlich\nFür Jugendliche und Erwachsene mit Lesefieber\nBist du zwischen 10 und 12 Jahre alt? Oder älter als 60?\nDann komm zum Generationen-Lesekreis in Binningen!\nViermal trefft ihr euch\, um eure Lesebegeisterung zu teilen. Gemeinsam werdet ihr vier Bücher lesen und besprechen\, die alle auf ihre Art «Generationen» zum Thema machen.\nHast du Lust bekommen?\nDann melde dich bis zum 27.6.2026 an unter: info@bibliothek-binningen.ch\nDer Lesekreis startet am 7.9.2026. Weitere Termine: 19.10.2026\; 30.11.2026\; 1.2.2027\; immer zur gleichen Uhrzeit. Die Anmeldung gilt für alle Termine.\nDie vier Bücher bekommst du geschenkt.\nModeriert wird der Lesekreis von Christine Günthardt.
END:VEVENT
END:VCALENDAR
