BEGIN:VCALENDAR
BEGIN:VEVENT
DTSTART:20260528T143000
DTEND:20260528T160000
SUMMARY:Geld\, Kohle\, Knete – Entdecker:innenzeit in der Bibliothek Breite
LOCATION:GGG Bibliothek Breite
DESCRIPTION:Mitmach-Werkstatt für Kinder von 7-11 J. Eintritt frei. Gruppen: Anmeldung via E-Mail\nWillkommen in einer ganz besonderen Werkstatt!\nWo kommt das Geld her?\nWieso muss man dafür arbeiten?\nWarum drucken wir nicht einfach mehr davon? Und was ist eigentlich diese Kryptowährung?\nWir hören spannende Geschichten über Tauschhandel\, Sparschweine und Gerechtigkeit.\nWir spielen Markt-Spiele\, tauschen Waren\, schätzen Preise\, basteln Fantasie-Scheine und überlegen\, wofür wir sie ausgeben würden\; sparen oder spenden?\nKomm vorbei!\nEin Abenteuer voller Ideen\, Spiel und Kreativität!\nMit Ilona Kannewurf und Iris Keller\, Literaturvermittlerinnen\nFür Kinder von 7-11 Jahren\nEintritt frei\, herzlich willkommen!\nGruppen bitte anmelden unter lesefoerderung@stadtbibliothekbasel.ch
END:VEVENT
END:VCALENDAR
