BEGIN:VCALENDAR
BEGIN:VEVENT
DTSTART:20260811T150000
DTEND:20260918T180000
SUMMARY:Schirm Scharm 2026 auf den Grünflächen von Basel
LOCATION:GGG Bibliothek Schmiedenhof
DESCRIPTION:Sommerprogramm in den Basler Parks\; für Kinder zwischen 0 und 12 J. Eintritt frei\; Anmeldung nicht erforderlich. Nur bei trockenem Wetter\nJede Woche in den Sommermonaten kommt der Schirm-Scharm\, eine mobile Bibliothek\, in die Basler Parks. Ein Team professioneller Animator:innen breitet Schirm\, Decke und jede Menge Bücher aus: Zum Schmökern\, Spielen\, Rätseln\, Basteln und Geschichten hören.\n26.5. - 18.9.2026 wöchentlich bei trockenem Wetter (ausser Schulferien)\nOrte & Termine:\nDienstag 15.00 - 17.00 Uhr\n• Steinbühlmätteli (Neubad)\n• Matthäusplatz (Bläsi)\n• Giesslipark (Kleinhüningen)\nDienstag 15.30 - 18.00 Uhr\n• Liesbergermatte (Gundeldingen)\nMittwoch 15.30 - 18.00 Uhr\n• Ackermätteli (Kleinhüningen)\n• Helvetiapark (Basel West)\nDonnerstag 15.00 - 17.00 Uhr\n• Erlenmattpark (Bläsi)\n• Liestaleranlage (Breite)\nDonnerstag 15.30 - 18.00 Uhr\n• Margarethenpark (Gundeldingen)\n• Kannenfeldpark (St. Johann)\nFreitag 15.00 - 17.00 Uhr\n• Wittlinger Spielplatz (Hirzbrunnen)\n• Schützenmattpark (Basel West)\nFreitag 15.30 - 18.00 \n• Breitematte\nWährend den Schulferien vom 20.7. - 7.8.2026 (Mo - Fr\, 14.30 - 17.00 Uhr)\n• Schwimmbad Eglisee
END:VEVENT
END:VCALENDAR
