BEGIN:VCALENDAR
BEGIN:VEVENT
DTSTART:20260720T143000
DTEND:20260807T173000
SUMMARY:Schirm Scharm 2026 im Schwimmbad Eglisee
LOCATION:Gartenbad Eglisee
DESCRIPTION:Schirm Scharm im Gartenbad Eglisee\, immer von Montag bis Freitag. Für Kinder zwischen 0 und 12 J. Eintritt frei\; Anmeldung nicht erforderlich. Nur bei trockenem Wetter\nJede Woche in den Sommermonaten kommt der «Schirm Scharm»\, eine mobile Bibliothek\, in die Basler Parks und das Gartenbad Eglisee. Ein Team aus professionellen Animator:innen breitet Schirm\, Decke und jede Menge Bücher aus. Eine Station zum Schmökern\, Spielen\, Rätseln\, Basteln und Geschichtenhören. Im Gartenbad Eglisee immer von Montag bis Freitag\; nur bei trockenem Wetter. Eintritt frei\; Anmeldung nicht erforderlich. 
END:VEVENT
END:VCALENDAR
