BEGIN:VCALENDAR
BEGIN:VEVENT
DTSTART:20260530T103000
DTEND:20260530T120000
SUMMARY:Geschichtenbaum auf Tigrinya und Deutsch / ትግርኛን ጀርመንን
LOCATION:GGG Bibliothek St. Johann JUKIBU
DESCRIPTION:Zweisprachige Geschichte für Kinder ab 4 J. Eintritt frei\; Anmeldung nicht erforderlich\nGeschichtenbaum auf Tigrinya und Deutsch / ትግርኛን ጀርመንን. Zweisprachige Geschichte für Kinder ab 4 Jahren. Eintritt frei\; Anmeldung nicht erforderlich. 
END:VEVENT
END:VCALENDAR
