BEGIN:VCALENDAR
BEGIN:VEVENT
DTSTART:20261107T103000
DTEND:20261107T120000
SUMMARY:Schenk mir eine Geschichte: Deutsch
LOCATION:GGG Bibliothek Gundeldingen
DESCRIPTION:Schenk mir eine Geschichte in deutscher Sprache. Für Eltern mit Kindern von 2-6 J. Eintritt frei\; Anmeldung nicht erforderlich\nEntdecken Sie mit Ihrem Kind die Welt der Geschichten und Bilderbücher.\nGeschichten hören und erzählen\, Verse und Lieder kennen lernen\, Bilderbücher anschauen\, spielen\, malen und basteln\, Bibliothek besuchen.\nFür Eltern mit Kindern von 2 bis 6 Jahren. Jüngere oder ältere Geschwister sind willkommen. Animatorin: Cecil Molina (cecilmolinamoreno@hotmail.com). Anmeldung nicht erforderlich.
END:VEVENT
END:VCALENDAR
