BEGIN:VCALENDAR
BEGIN:VEVENT
DTSTART:20260625T183000
DTEND:20260625T200000
SUMMARY:Sharing Stories
LOCATION:GGG Bibliothek Bläsi
DESCRIPTION:Lesen und Geschichten erzählen in der Bibliothek Bläsi. Für Deutschlernende ab A2/B1 und alle\, die gerne Geschichten haben. Eintritt frei\nWir kommen zusammen\, lesen Geschichten und lernen die deutsche Sprache kennen. Für Deutschlernende ab A2/B1 und alle\, die gerne Geschichten haben. Jeweils am Donnerstagabend von 18.30 bis 20.00 Uhr. «Sharing Stories» wird von Trix Bürki\, Katja Schnitzer und Alexandra Stäheli moderiert. Komme vorbei\, die Teilnahme ist gratis und jederzeit möglich.\nKontakt: GGG Bibliothek Bläsi (061 692 32 00) oder www.sharing-stories.org\nUnterstützt von der Fachstelle Integration und Antirassismus.
END:VEVENT
END:VCALENDAR
