BEGIN:VCALENDAR
BEGIN:VEVENT
DTSTART:20260820T173000
DTEND:20260820T200000
SUMMARY:Lernzentrum Gundeldingen
LOCATION:GGG Bibliothek Gundeldingen
DESCRIPTION:Besser lesen\, schreiben\, rechnen und den Computer nutzen. Für Erwachsene. Eintritt frei. Anmeldung nicht erforderlich \nUnter kundiger Anleitung besser lesen\, schreiben und rechnen lernen und einfache Arbeiten auf dem Computer üben. Alles individuell und kostenlos. Anmeldung nicht erforderlich. Immer am Donnerstag von 17.30 bis 20.00. Weitere Auskünfte: 061 269 86 69 oder E-Mail an nicolas.fuezesi@vhsbb.ch
END:VEVENT
END:VCALENDAR
