BEGIN:VCALENDAR
BEGIN:VEVENT
DTSTART:20260603T150000
DTEND:20260603T154500
SUMMARY:Figurentheater in der Bibliothek Bläsi
LOCATION:GGG Bibliothek Bläsi
DESCRIPTION:Eine Theatertournee durch die Filialen der Stadtbibliothek. Für Gross und Klein ab 2 J. Eintritt frei. Anmeldung via Mail für Gruppen obligatorisch\n«Rotbällchen»\nEine Theatertournee von und mit Eva Kaufmann durch die Filialen der GGG Stadtbibliothek Basel.\nEin Stück über Klein und Gross\, über die ersten Schritte\, die ersten Begegnungen mit kleinen und grossen Freunden und die ersten Überraschungen. Ein Stück über Werden\, Vergehen\, Wandel und Neubeginn.\nDie Geschichte über das kleine Rotbällchen lebt vom ständigen Wandel. Sie entführt uns in eine phantasievolle Welt\, in der eins ins andere übergeht\, seine Gestalt verändert und uns darüber staunen lässt.\nEin kleiner roter Ball bekommt ein Gesicht und blickt uns freundlich an - Rotbällchen.\nAb 2 Jahren. Eintritt frei\, herzlich willkommen!\nAnmeldung via E-Mail (blaesi@stadtbibliothekbasel.ch) für Gruppen obligatorisch.
END:VEVENT
END:VCALENDAR
